Package: methylMnM Version: 1.38.0 Command: rm -rf methylMnM.buildbin-libdir && mkdir methylMnM.buildbin-libdir && /Users/biocbuild/BBS/utils/build-universal.sh methylMnM_1.38.0.tar.gz /Library/Frameworks/R.framework/Resources/bin/R methylMnM.buildbin-libdir StartedAt: 2023-10-19 14:50:09 -0400 (Thu, 19 Oct 2023) EndedAt: 2023-10-19 14:50:42 -0400 (Thu, 19 Oct 2023) EllapsedTime: 32.5 seconds RetCode: 0 Status: OK PackageFile: methylMnM_1.38.0.tgz PackageFileSize: 8.86 MiB