Package: methimpute Version: 1.22.0 Command: /Library/Frameworks/R.framework/Resources/bin/R CMD build --keep-empty-dirs --no-resave-data methimpute StartedAt: 2023-10-16 09:13:22 -0400 (Mon, 16 Oct 2023) EndedAt: 2023-10-16 09:18:47 -0400 (Mon, 16 Oct 2023) EllapsedTime: 324.9 seconds RetCode: 0 Status: OK PackageFile: methimpute_1.22.0.tar.gz PackageFileSize: 1.268 MiB