Package: megadepth Version: 1.10.0 Command: /Library/Frameworks/R.framework/Resources/bin/R CMD build --keep-empty-dirs --no-resave-data megadepth StartedAt: 2023-10-16 08:40:16 -0400 (Mon, 16 Oct 2023) EndedAt: 2023-10-16 08:40:58 -0400 (Mon, 16 Oct 2023) EllapsedTime: 41.5 seconds RetCode: 1 Status: ERROR PackageFile: None PackageFileSize: NA