Package: mdqc Version: 1.62.0 Command: rm -rf mdqc.buildbin-libdir && mkdir mdqc.buildbin-libdir && /Users/biocbuild/BBS/utils/build-universal.sh mdqc_1.62.0.tar.gz /Library/Frameworks/R.framework/Resources/bin/R mdqc.buildbin-libdir StartedAt: 2023-10-19 14:38:17 -0400 (Thu, 19 Oct 2023) EndedAt: 2023-10-19 14:38:23 -0400 (Thu, 19 Oct 2023) EllapsedTime: 6.5 seconds RetCode: 0 Status: OK PackageFile: mdqc_1.62.0.tgz PackageFileSize: 295.8 KiB