Package: mdp Version: 1.20.0 Command: /Library/Frameworks/R.framework/Resources/bin/R CMD build --keep-empty-dirs --no-resave-data mdp StartedAt: 2023-10-16 08:33:57 -0400 (Mon, 16 Oct 2023) EndedAt: 2023-10-16 08:34:47 -0400 (Mon, 16 Oct 2023) EllapsedTime: 49.8 seconds RetCode: 0 Status: OK PackageFile: mdp_1.20.0.tar.gz PackageFileSize: 4.383 MiB