git_url: https://git.bioconductor.org/packages/mbQTL git_branch: RELEASE_3_17 git_last_commit: 669e523 git_last_commit_date: 2023-04-25 11:42:33 -0400 (Tue, 25 Apr 2023) Package: mbQTL Version: 1.0.0 Maintainer: Mercedeh Movassagh MaintainerEmail: mercedeh.movassagh at yale.edu