Package: matter Version: 2.2.0 Command: /Library/Frameworks/R.framework/Resources/bin/R CMD INSTALL matter StartedAt: 2023-10-15 16:47:24 -0400 (Sun, 15 Oct 2023) EndedAt: 2023-10-15 16:48:19 -0400 (Sun, 15 Oct 2023) EllapsedTime: 54.8 seconds RetCode: 0 Status: OK