Package: massiR Version: 1.36.0 Command: rm -rf massiR.buildbin-libdir && mkdir massiR.buildbin-libdir && /Users/biocbuild/BBS/utils/build-universal.sh massiR_1.36.0.tar.gz /Library/Frameworks/R.framework/Resources/bin/R massiR.buildbin-libdir StartedAt: 2023-10-19 14:34:29 -0400 (Thu, 19 Oct 2023) EndedAt: 2023-10-19 14:34:39 -0400 (Thu, 19 Oct 2023) EllapsedTime: 9.9 seconds RetCode: 0 Status: OK PackageFile: massiR_1.36.0.tgz PackageFileSize: 1.148 MiB