git_url: https://git.bioconductor.org/packages/massiR git_branch: RELEASE_3_17 git_last_commit: aacc641 git_last_commit_date: 2023-04-25 10:30:49 -0400 (Tue, 25 Apr 2023) Package: massiR Version: 1.36.0 Maintainer: Sam Buckberry MaintainerEmail: sam.buckberry at adelaide.edu.au