Package: maigesPack Version: 1.64.0 Command: /Library/Frameworks/R.framework/Resources/bin/R CMD check --install=check:maigesPack.install-out.txt --library=/Library/Frameworks/R.framework/Resources/library --no-vignettes --timings --no-examples maigesPack_1.64.0.tar.gz StartedAt: 2023-10-18 04:35:08 -0400 (Wed, 18 Oct 2023) EndedAt: 2023-10-18 04:37:16 -0400 (Wed, 18 Oct 2023) EllapsedTime: 127.7 seconds RetCode: 0 Status: OK CheckDir: maigesPack.Rcheck Warnings: 0