Package: made4 Version: 1.74.0 Command: /Library/Frameworks/R.framework/Resources/bin/R CMD INSTALL made4 StartedAt: 2023-10-15 15:30:29 -0400 (Sun, 15 Oct 2023) EndedAt: 2023-10-15 15:31:09 -0400 (Sun, 15 Oct 2023) EllapsedTime: 39.6 seconds RetCode: 0 Status: OK