git_url: https://git.bioconductor.org/packages/made4 git_branch: RELEASE_3_17 git_last_commit: d5b34b5 git_last_commit_date: 2023-04-25 09:41:35 -0400 (Tue, 25 Apr 2023) Package: made4 Version: 1.74.0 Maintainer: Aedin Culhane MaintainerEmail: Aedin at jimmy.harvard.edu