Package: mBPCR Version: 1.54.0 Command: /Library/Frameworks/R.framework/Resources/bin/R CMD build --keep-empty-dirs --no-resave-data mBPCR StartedAt: 2023-10-16 08:31:58 -0400 (Mon, 16 Oct 2023) EndedAt: 2023-10-16 08:33:57 -0400 (Mon, 16 Oct 2023) EllapsedTime: 118.7 seconds RetCode: 0 Status: OK PackageFile: mBPCR_1.54.0.tar.gz PackageFileSize: 834.9 KiB