Package: lfa Version: 2.0.11 Command: rm -rf lfa.buildbin-libdir && mkdir lfa.buildbin-libdir && /Users/biocbuild/BBS/utils/build-universal.sh lfa_2.0.11.tar.gz /Library/Frameworks/R.framework/Resources/bin/R lfa.buildbin-libdir StartedAt: 2023-10-19 14:24:09 -0400 (Thu, 19 Oct 2023) EndedAt: 2023-10-19 14:24:17 -0400 (Thu, 19 Oct 2023) EllapsedTime: 8.3 seconds RetCode: 0 Status: OK PackageFile: lfa_2.0.11.tgz PackageFileSize: 501.8 KiB