Package: iterativeBMA Version: 1.58.0 Command: /Library/Frameworks/R.framework/Resources/bin/R CMD build --keep-empty-dirs --no-resave-data iterativeBMA StartedAt: 2023-10-16 07:26:33 -0400 (Mon, 16 Oct 2023) EndedAt: 2023-10-16 07:27:17 -0400 (Mon, 16 Oct 2023) EllapsedTime: 43.7 seconds RetCode: 0 Status: OK PackageFile: iterativeBMA_1.58.0.tar.gz PackageFileSize: 159.1 KiB