Package: iterativeBMA Version: 1.58.0 Command: rm -rf iterativeBMA.buildbin-libdir && mkdir iterativeBMA.buildbin-libdir && /Users/biocbuild/BBS/utils/build-universal.sh iterativeBMA_1.58.0.tar.gz /Library/Frameworks/R.framework/Resources/bin/R iterativeBMA.buildbin-libdir StartedAt: 2023-10-19 14:19:26 -0400 (Thu, 19 Oct 2023) EndedAt: 2023-10-19 14:19:47 -0400 (Thu, 19 Oct 2023) EllapsedTime: 20.5 seconds RetCode: 0 Status: OK PackageFile: iterativeBMA_1.58.0.tgz PackageFileSize: 213.6 KiB