Package: intansv Version: 1.40.0 Command: /Library/Frameworks/R.framework/Resources/bin/R CMD build --keep-empty-dirs --no-resave-data intansv StartedAt: 2023-10-16 06:59:05 -0400 (Mon, 16 Oct 2023) EndedAt: 2023-10-16 07:02:12 -0400 (Mon, 16 Oct 2023) EllapsedTime: 187.2 seconds RetCode: 0 Status: OK PackageFile: intansv_1.40.0.tar.gz PackageFileSize: 614.2 KiB