Package: immunotation Version: 1.8.0 Command: /Library/Frameworks/R.framework/Resources/bin/R CMD check --install=check:immunotation.install-out.txt --library=/Library/Frameworks/R.framework/Resources/library --no-vignettes --timings immunotation_1.8.0.tar.gz StartedAt: 2023-10-18 02:00:52 -0400 (Wed, 18 Oct 2023) EndedAt: 2023-10-18 02:04:10 -0400 (Wed, 18 Oct 2023) EllapsedTime: 198.0 seconds RetCode: 0 Status: OK CheckDir: immunotation.Rcheck Warnings: 0