Package: immunoClust Version: 1.32.0 Command: /Library/Frameworks/R.framework/Resources/bin/R CMD INSTALL immunoClust StartedAt: 2023-10-15 15:20:35 -0400 (Sun, 15 Oct 2023) EndedAt: 2023-10-15 15:21:26 -0400 (Sun, 15 Oct 2023) EllapsedTime: 51.1 seconds RetCode: 0 Status: OK