Package: immunoClust Version: 1.32.0 Command: /Library/Frameworks/R.framework/Resources/bin/R CMD check --install=check:immunoClust.install-out.txt --library=/Library/Frameworks/R.framework/Resources/library --no-vignettes --timings immunoClust_1.32.0.tar.gz StartedAt: 2023-10-18 01:57:35 -0400 (Wed, 18 Oct 2023) EndedAt: 2023-10-18 02:02:08 -0400 (Wed, 18 Oct 2023) EllapsedTime: 272.9 seconds RetCode: 0 Status: OK CheckDir: immunoClust.Rcheck Warnings: 0