Package: immunoClust Version: 1.32.0 Command: /Library/Frameworks/R.framework/Resources/bin/R CMD build --keep-empty-dirs --no-resave-data immunoClust StartedAt: 2023-10-16 06:47:57 -0400 (Mon, 16 Oct 2023) EndedAt: 2023-10-16 06:52:55 -0400 (Mon, 16 Oct 2023) EllapsedTime: 298.8 seconds RetCode: 0 Status: OK PackageFile: immunoClust_1.32.0.tar.gz PackageFileSize: 2.438 MiB