Package: immunoClust Version: 1.32.0 Command: rm -rf immunoClust.buildbin-libdir && mkdir immunoClust.buildbin-libdir && /Users/biocbuild/BBS/utils/build-universal.sh immunoClust_1.32.0.tar.gz /Library/Frameworks/R.framework/Resources/bin/R immunoClust.buildbin-libdir StartedAt: 2023-10-19 14:08:42 -0400 (Thu, 19 Oct 2023) EndedAt: 2023-10-19 14:09:51 -0400 (Thu, 19 Oct 2023) EllapsedTime: 69.3 seconds RetCode: 0 Status: OK PackageFile: immunoClust_1.32.0.tgz PackageFileSize: 3.198 MiB