Package: iPAC Version: 1.44.0 Command: /Library/Frameworks/R.framework/Resources/bin/R CMD INSTALL iPAC StartedAt: 2023-10-15 18:36:01 -0400 (Sun, 15 Oct 2023) EndedAt: 2023-10-15 18:36:30 -0400 (Sun, 15 Oct 2023) EllapsedTime: 29.3 seconds RetCode: 0 Status: OK