Package: iChip Version: 1.54.0 Command: /Library/Frameworks/R.framework/Resources/bin/R CMD INSTALL iChip StartedAt: 2023-10-15 15:20:07 -0400 (Sun, 15 Oct 2023) EndedAt: 2023-10-15 15:20:13 -0400 (Sun, 15 Oct 2023) EllapsedTime: 6.4 seconds RetCode: 0 Status: OK