Package: iASeq Version: 1.44.0 Command: /Library/Frameworks/R.framework/Resources/bin/R CMD check --install=check:iASeq.install-out.txt --library=/Library/Frameworks/R.framework/Resources/library --no-vignettes --timings iASeq_1.44.0.tar.gz StartedAt: 2023-10-18 01:15:58 -0400 (Wed, 18 Oct 2023) EndedAt: 2023-10-18 01:16:41 -0400 (Wed, 18 Oct 2023) EllapsedTime: 43.3 seconds RetCode: 0 Status: OK CheckDir: iASeq.Rcheck Warnings: 0