Package: hierGWAS Version: 1.30.0 Command: rm -rf hierGWAS.buildbin-libdir && mkdir hierGWAS.buildbin-libdir && /Users/biocbuild/BBS/utils/build-universal.sh hierGWAS_1.30.0.tar.gz /Library/Frameworks/R.framework/Resources/bin/R hierGWAS.buildbin-libdir StartedAt: 2023-10-19 14:00:38 -0400 (Thu, 19 Oct 2023) EndedAt: 2023-10-19 14:00:54 -0400 (Thu, 19 Oct 2023) EllapsedTime: 16.5 seconds RetCode: 0 Status: OK PackageFile: hierGWAS_1.30.0.tgz PackageFileSize: 545.2 KiB