Package: graper Version: 1.16.1 Command: /Library/Frameworks/R.framework/Resources/bin/R CMD build --keep-empty-dirs --no-resave-data graper StartedAt: 2023-10-16 05:14:12 -0400 (Mon, 16 Oct 2023) EndedAt: 2023-10-16 05:15:56 -0400 (Mon, 16 Oct 2023) EllapsedTime: 104.3 seconds RetCode: 0 Status: OK PackageFile: graper_1.16.1.tar.gz PackageFileSize: 891.3 KiB