Package: goseq Version: 1.52.0 Command: /Library/Frameworks/R.framework/Resources/bin/R CMD INSTALL goseq StartedAt: 2023-10-15 16:57:00 -0400 (Sun, 15 Oct 2023) EndedAt: 2023-10-15 16:58:03 -0400 (Sun, 15 Oct 2023) EllapsedTime: 63.8 seconds RetCode: 0 Status: OK