Package: goseq Version: 1.52.0 Command: /Library/Frameworks/R.framework/Resources/bin/R CMD check --install=check:goseq.install-out.txt --library=/Library/Frameworks/R.framework/Resources/library --no-vignettes --timings goseq_1.52.0.tar.gz StartedAt: 2023-10-17 23:01:14 -0400 (Tue, 17 Oct 2023) EndedAt: 2023-10-17 23:10:28 -0400 (Tue, 17 Oct 2023) EllapsedTime: 553.5 seconds RetCode: 1 Status: ERROR CheckDir: goseq.Rcheck Warnings: NA