Package: goseq Version: 1.52.0 Command: /Library/Frameworks/R.framework/Resources/bin/R CMD build --keep-empty-dirs --no-resave-data goseq StartedAt: 2023-10-16 04:57:01 -0400 (Mon, 16 Oct 2023) EndedAt: 2023-10-16 05:03:58 -0400 (Mon, 16 Oct 2023) EllapsedTime: 417.4 seconds RetCode: 0 Status: OK PackageFile: goseq_1.52.0.tar.gz PackageFileSize: 1.829 MiB