Package: goseq Version: 1.52.0 Command: rm -rf goseq.buildbin-libdir && mkdir goseq.buildbin-libdir && /Users/biocbuild/BBS/utils/build-universal.sh goseq_1.52.0.tar.gz /Library/Frameworks/R.framework/Resources/bin/R goseq.buildbin-libdir StartedAt: 2023-10-19 13:49:03 -0400 (Thu, 19 Oct 2023) EndedAt: 2023-10-19 13:50:39 -0400 (Thu, 19 Oct 2023) EllapsedTime: 95.8 seconds RetCode: 0 Status: OK PackageFile: goseq_1.52.0.tgz PackageFileSize: 1.878 MiB