git_url: https://git.bioconductor.org/packages/globaltest git_branch: RELEASE_3_17 git_last_commit: bb8bc5f git_last_commit_date: 2023-04-25 09:40:39 -0400 (Tue, 25 Apr 2023) Package: globaltest Version: 5.54.0 Maintainer: Jelle Goeman MaintainerEmail: j.j.goeman at lumc.nl