Package: geneXtendeR Version: 1.26.0 Command: /Library/Frameworks/R.framework/Resources/bin/R CMD check --install=check:geneXtendeR.install-out.txt --library=/Library/Frameworks/R.framework/Resources/library --no-vignettes --timings geneXtendeR_1.26.0.tar.gz StartedAt: 2023-10-17 21:12:18 -0400 (Tue, 17 Oct 2023) EndedAt: 2023-10-17 21:32:03 -0400 (Tue, 17 Oct 2023) EllapsedTime: 1185.0 seconds RetCode: 0 Status: WARNINGS CheckDir: geneXtendeR.Rcheck Warnings: 1