Package: geneXtendeR Version: 1.26.0 Command: /Library/Frameworks/R.framework/Resources/bin/R CMD build --keep-empty-dirs --no-resave-data geneXtendeR StartedAt: 2023-10-16 04:04:31 -0400 (Mon, 16 Oct 2023) EndedAt: 2023-10-16 04:04:37 -0400 (Mon, 16 Oct 2023) EllapsedTime: 6.5 seconds RetCode: 0 Status: OK PackageFile: geneXtendeR_1.26.0.tar.gz PackageFileSize: 11.74 MiB