Package: geneXtendeR Version: 1.26.0 Command: rm -rf geneXtendeR.buildbin-libdir && mkdir geneXtendeR.buildbin-libdir && /Users/biocbuild/BBS/utils/build-universal.sh geneXtendeR_1.26.0.tar.gz /Library/Frameworks/R.framework/Resources/bin/R geneXtendeR.buildbin-libdir StartedAt: 2023-10-19 13:35:58 -0400 (Thu, 19 Oct 2023) EndedAt: 2023-10-19 13:38:13 -0400 (Thu, 19 Oct 2023) EllapsedTime: 135.7 seconds RetCode: 0 Status: OK PackageFile: geneXtendeR_1.26.0.tgz PackageFileSize: 8.509 MiB