Package: geneRxCluster Version: 1.36.0 Command: /Library/Frameworks/R.framework/Resources/bin/R CMD INSTALL geneRxCluster StartedAt: 2023-10-15 15:25:03 -0400 (Sun, 15 Oct 2023) EndedAt: 2023-10-15 15:25:23 -0400 (Sun, 15 Oct 2023) EllapsedTime: 19.8 seconds RetCode: 0 Status: OK