Package: geneRecommender Version: 1.72.0 Command: /Library/Frameworks/R.framework/Resources/bin/R CMD check --install=check:geneRecommender.install-out.txt --library=/Library/Frameworks/R.framework/Resources/library --no-vignettes --timings geneRecommender_1.72.0.tar.gz StartedAt: 2023-10-17 21:07:06 -0400 (Tue, 17 Oct 2023) EndedAt: 2023-10-17 21:07:54 -0400 (Tue, 17 Oct 2023) EllapsedTime: 48.1 seconds RetCode: 0 Status: OK CheckDir: geneRecommender.Rcheck Warnings: 0