Package: garfield Version: 1.28.0 Command: /Library/Frameworks/R.framework/Resources/bin/R CMD check --install=check:garfield.install-out.txt --library=/Library/Frameworks/R.framework/Resources/library --no-vignettes --timings garfield_1.28.0.tar.gz StartedAt: 2023-10-17 20:40:32 -0400 (Tue, 17 Oct 2023) EndedAt: 2023-10-17 20:41:16 -0400 (Tue, 17 Oct 2023) EllapsedTime: 44.0 seconds RetCode: 0 Status: OK CheckDir: garfield.Rcheck Warnings: 0