git_url: https://git.bioconductor.org/packages/flowTime git_branch: RELEASE_3_17 git_last_commit: aa3762c git_last_commit_date: 2023-04-25 10:53:17 -0400 (Tue, 25 Apr 2023) Package: flowTime Version: 1.24.0 Maintainer: R. Clay Wright MaintainerEmail: wright.clay at gmail.com