Package: farms Version: 1.52.0 Command: /Library/Frameworks/R.framework/Resources/bin/R CMD check --install=check:farms.install-out.txt --library=/Library/Frameworks/R.framework/Resources/library --no-vignettes --timings farms_1.52.0.tar.gz StartedAt: 2023-10-17 19:09:03 -0400 (Tue, 17 Oct 2023) EndedAt: 2023-10-17 19:10:17 -0400 (Tue, 17 Oct 2023) EllapsedTime: 73.7 seconds RetCode: 0 Status: OK CheckDir: farms.Rcheck Warnings: 0