git_url: https://git.bioconductor.org/packages/fCCAC git_branch: RELEASE_3_17 git_last_commit: 0d3206e git_last_commit_date: 2023-04-25 10:50:59 -0400 (Tue, 25 Apr 2023) Package: fCCAC Version: 1.26.0 Maintainer: Pedro Madrigal MaintainerEmail: pmadrigal at ebi.ac.uk