Package: epivizrChart Version: 1.22.0 Command: /Library/Frameworks/R.framework/Resources/bin/R CMD INSTALL epivizrChart StartedAt: 2023-10-15 17:10:49 -0400 (Sun, 15 Oct 2023) EndedAt: 2023-10-15 17:12:11 -0400 (Sun, 15 Oct 2023) EllapsedTime: 82.5 seconds RetCode: 0 Status: OK