Package: edge Version: 2.32.0 Command: rm -rf edge.buildbin-libdir && mkdir edge.buildbin-libdir && /Users/biocbuild/BBS/utils/build-universal.sh edge_2.32.0.tar.gz /Library/Frameworks/R.framework/Resources/bin/R edge.buildbin-libdir StartedAt: 2023-10-19 12:59:37 -0400 (Thu, 19 Oct 2023) EndedAt: 2023-10-19 13:00:55 -0400 (Thu, 19 Oct 2023) EllapsedTime: 77.4 seconds RetCode: 0 Status: OK PackageFile: edge_2.32.0.tgz PackageFileSize: 1.624 MiB