Package: easyRNASeq Version: 2.36.0 Command: /Library/Frameworks/R.framework/Resources/bin/R CMD build --keep-empty-dirs --no-resave-data easyRNASeq StartedAt: 2023-10-16 02:17:13 -0400 (Mon, 16 Oct 2023) EndedAt: 2023-10-16 02:24:09 -0400 (Mon, 16 Oct 2023) EllapsedTime: 416.2 seconds RetCode: 0 Status: OK PackageFile: easyRNASeq_2.36.0.tar.gz PackageFileSize: 69.55 MiB