Package: easyRNASeq Version: 2.36.0 Command: rm -rf easyRNASeq.buildbin-libdir && mkdir easyRNASeq.buildbin-libdir && /Users/biocbuild/BBS/utils/build-universal.sh easyRNASeq_2.36.0.tar.gz /Library/Frameworks/R.framework/Resources/bin/R easyRNASeq.buildbin-libdir StartedAt: 2023-10-19 12:58:19 -0400 (Thu, 19 Oct 2023) EndedAt: 2023-10-19 13:00:36 -0400 (Thu, 19 Oct 2023) EllapsedTime: 136.7 seconds RetCode: 0 Status: OK PackageFile: easyRNASeq_2.36.0.tgz PackageFileSize: 24.06 MiB