Package: dir.expiry Version: 1.8.0 Command: /Library/Frameworks/R.framework/Resources/bin/R CMD build --keep-empty-dirs --no-resave-data dir.expiry StartedAt: 2023-10-16 01:48:26 -0400 (Mon, 16 Oct 2023) EndedAt: 2023-10-16 01:48:39 -0400 (Mon, 16 Oct 2023) EllapsedTime: 12.6 seconds RetCode: 0 Status: OK PackageFile: dir.expiry_1.8.0.tar.gz PackageFileSize: 300.6 KiB