Package: derfinderPlot Version: 1.34.0 Command: rm -rf derfinderPlot.buildbin-libdir && mkdir derfinderPlot.buildbin-libdir && /Users/biocbuild/BBS/utils/build-universal.sh derfinderPlot_1.34.0.tar.gz /Library/Frameworks/R.framework/Resources/bin/R derfinderPlot.buildbin-libdir StartedAt: 2023-10-19 12:44:27 -0400 (Thu, 19 Oct 2023) EndedAt: 2023-10-19 12:46:46 -0400 (Thu, 19 Oct 2023) EllapsedTime: 138.2 seconds RetCode: 0 Status: OK PackageFile: derfinderPlot_1.34.0.tgz PackageFileSize: 2.298 MiB