Package: customCMPdb Version: 1.10.0 Command: /Library/Frameworks/R.framework/Resources/bin/R CMD INSTALL customCMPdb StartedAt: 2023-10-15 19:59:47 -0400 (Sun, 15 Oct 2023) EndedAt: 2023-10-15 20:00:20 -0400 (Sun, 15 Oct 2023) EllapsedTime: 33.4 seconds RetCode: 0 Status: OK