Package: ctc Version: 1.74.0 Command: /Library/Frameworks/R.framework/Resources/bin/R CMD check --install=check:ctc.install-out.txt --library=/Library/Frameworks/R.framework/Resources/library --no-vignettes --timings ctc_1.74.0.tar.gz StartedAt: 2023-10-17 13:19:18 -0400 (Tue, 17 Oct 2023) EndedAt: 2023-10-17 13:20:05 -0400 (Tue, 17 Oct 2023) EllapsedTime: 46.9 seconds RetCode: 0 Status: OK CheckDir: ctc.Rcheck Warnings: 0