git_url: https://git.bioconductor.org/packages/crisprScore git_branch: RELEASE_3_17 git_last_commit: 4866933 git_last_commit_date: 2023-04-25 11:35:22 -0400 (Tue, 25 Apr 2023) Package: crisprScore Version: 1.4.0 Maintainer: Jean-Philippe Fortin MaintainerEmail: fortin946 at gmail.com